BEGIN:VCALENDAR
VERSION:2.0
PRODID:-//Verein für aktive Vielfalt e.V. - ECPv6.15.20//NONSGML v1.0//EN
CALSCALE:GREGORIAN
METHOD:PUBLISH
X-ORIGINAL-URL:https://vav-lichtenberg.de
X-WR-CALDESC:Veranstaltungen für Verein für aktive Vielfalt e.V.
REFRESH-INTERVAL;VALUE=DURATION:PT1H
X-Robots-Tag:noindex
X-PUBLISHED-TTL:PT1H
BEGIN:VTIMEZONE
TZID:Europe/Berlin
BEGIN:DAYLIGHT
TZOFFSETFROM:+0100
TZOFFSETTO:+0200
TZNAME:CEST
DTSTART:20240331T010000
END:DAYLIGHT
BEGIN:STANDARD
TZOFFSETFROM:+0200
TZOFFSETTO:+0100
TZNAME:CET
DTSTART:20241027T010000
END:STANDARD
BEGIN:DAYLIGHT
TZOFFSETFROM:+0100
TZOFFSETTO:+0200
TZNAME:CEST
DTSTART:20250330T010000
END:DAYLIGHT
BEGIN:STANDARD
TZOFFSETFROM:+0200
TZOFFSETTO:+0100
TZNAME:CET
DTSTART:20251026T010000
END:STANDARD
BEGIN:DAYLIGHT
TZOFFSETFROM:+0100
TZOFFSETTO:+0200
TZNAME:CEST
DTSTART:20260329T010000
END:DAYLIGHT
BEGIN:STANDARD
TZOFFSETFROM:+0200
TZOFFSETTO:+0100
TZNAME:CET
DTSTART:20261025T010000
END:STANDARD
END:VTIMEZONE
BEGIN:VEVENT
DTSTART;TZID=Europe/Berlin:20250801T100000
DTEND;TZID=Europe/Berlin:20250801T100000
DTSTAMP:20260424T144127
CREATED:20250723T075814Z
LAST-MODIFIED:20250723T075916Z
UID:11877-1754042400-1754042400@vav-lichtenberg.de
SUMMARY:Gesunde Brotdose
DESCRIPTION:Ich packe meine Brotdose\nund nehme mit… \nLeichte und gesunde Snacks für jede Brotdose – wir kochen gemeinsam Gemüse\, Wraps\, Aufstriche und andere leckere Sachen. Natürlich wird danach in gemütlicher Runde gegessen. \nBitte Dosen mitbringen.\nKostenfreies Angebot für Eltern und Kinder! \nAnmeldung:\nstz-welsekiosk@vav-lichtenberg.de\, 030 85993883 oder vor Ort im Welsekiosk.
URL:https://vav-lichtenberg.de/aktuelles/gesunde-brotdose/
LOCATION:Stadtteilzentrum Welsekiosk\, Falkenberger Chaussee 136\, Berlin\, 13057\, Germany
ATTACH;FMTTYPE=image/png:https://vav-lichtenberg.de/wp-content/uploads/gesunde-brotdose-welsekiosk.png
END:VEVENT
BEGIN:VEVENT
DTSTART;TZID=Europe/Berlin:20250801T150000
DTEND;TZID=Europe/Berlin:20250801T190000
DTSTAMP:20260424T144127
CREATED:20250701T143957Z
LAST-MODIFIED:20250701T144010Z
UID:11677-1754060400-1754074800@vav-lichtenberg.de
SUMMARY:Kiezfest on Tour
DESCRIPTION:Das traditionelle Kiezfest geht in diesem Jahr auf Tour. Diesmal kommt die Sommerlaune zur Gemeinschaftsunterkunft am Hagenower Ring in Neu-Wartenberg. \nEs erwartet euch: \nMusik: Singer-Songwriter Soraya Eken Ngako & Another.Nguyen • DJ Kiezbringo\nGastronomie: interkulturelles Buffet von Nachbar*innen\, Bratwurst- und Eisstand\, alkoholfreie Getränke\nInfo- und Mitmach-Stände\nFür Kinder: Hüpfrutsche\, Cabuwazi\, Sinn Sala Bim \nWie immer ist der Eintritt frei!
URL:https://vav-lichtenberg.de/aktuelles/kiezfest-on-tour/
LOCATION:Gemeinschaftsunterkunft Hagenower Ring\, Hagenower Ring 47/49\, Berlin-Wartenberg\, 13059
ATTACH;FMTTYPE=image/jpeg:https://vav-lichtenberg.de/wp-content/uploads/Kiezsommerfest-250801-Teaser.jpg
ORGANIZER;CN="Verein f%C3%BCr aktive Vielfalt e.V.":MAILTO:booking@vav-lichtenberg.de
END:VEVENT
END:VCALENDAR