BEGIN:VCALENDAR
VERSION:2.0
PRODID:-//Verein für aktive Vielfalt e.V. - ECPv6.15.20//NONSGML v1.0//EN
CALSCALE:GREGORIAN
METHOD:PUBLISH
X-ORIGINAL-URL:https://vav-lichtenberg.de
X-WR-CALDESC:Veranstaltungen für Verein für aktive Vielfalt e.V.
REFRESH-INTERVAL;VALUE=DURATION:PT1H
X-Robots-Tag:noindex
X-PUBLISHED-TTL:PT1H
BEGIN:VTIMEZONE
TZID:Europe/Berlin
BEGIN:DAYLIGHT
TZOFFSETFROM:+0100
TZOFFSETTO:+0200
TZNAME:CEST
DTSTART:20240331T010000
END:DAYLIGHT
BEGIN:STANDARD
TZOFFSETFROM:+0200
TZOFFSETTO:+0100
TZNAME:CET
DTSTART:20241027T010000
END:STANDARD
BEGIN:DAYLIGHT
TZOFFSETFROM:+0100
TZOFFSETTO:+0200
TZNAME:CEST
DTSTART:20250330T010000
END:DAYLIGHT
BEGIN:STANDARD
TZOFFSETFROM:+0200
TZOFFSETTO:+0100
TZNAME:CET
DTSTART:20251026T010000
END:STANDARD
BEGIN:DAYLIGHT
TZOFFSETFROM:+0100
TZOFFSETTO:+0200
TZNAME:CEST
DTSTART:20260329T010000
END:DAYLIGHT
BEGIN:STANDARD
TZOFFSETFROM:+0200
TZOFFSETTO:+0100
TZNAME:CET
DTSTART:20261025T010000
END:STANDARD
END:VTIMEZONE
BEGIN:VEVENT
DTSTART;TZID=Europe/Berlin:20250829T200000
DTEND;TZID=Europe/Berlin:20250829T200000
DTSTAMP:20260424T144128
CREATED:20250813T084735Z
LAST-MODIFIED:20250813T091735Z
UID:12001-1756497600-1756497600@vav-lichtenberg.de
SUMMARY:Kino für alle
DESCRIPTION:Freiluftkino am Malchower See\nDer Sommer lockt und wir laden euch zum Freiluftkino am Malchower See ein. Wir wollen euch mit dem Animationsfilm „Der Lorax“ auf eine Reise zu den verschwundenen Bäumen nehmen. \nVorprogramm ab 18.00 Uhr. Die Sitzplätze sind begrenzt. Der Eintritt ist frei. Es sind Getränke und Snacks erhältlich.
URL:https://vav-lichtenberg.de/aktuelles/kino-fuer-alle/
LOCATION:Festwiese am Malchower See
CATEGORIES:Kino
ATTACH;FMTTYPE=image/png:https://vav-lichtenberg.de/wp-content/uploads/postkarte_KFA_2025_Lorax_VS-250829-Teaser.png
END:VEVENT
END:VCALENDAR