BEGIN:VCALENDAR
VERSION:2.0
PRODID:-//Verein für aktive Vielfalt e.V. - ECPv6.15.20//NONSGML v1.0//EN
CALSCALE:GREGORIAN
METHOD:PUBLISH
X-WR-CALNAME:Verein für aktive Vielfalt e.V.
X-ORIGINAL-URL:https://vav-lichtenberg.de
X-WR-CALDESC:Veranstaltungen für Verein für aktive Vielfalt e.V.
REFRESH-INTERVAL;VALUE=DURATION:PT1H
X-Robots-Tag:noindex
X-PUBLISHED-TTL:PT1H
BEGIN:VTIMEZONE
TZID:Europe/Berlin
BEGIN:DAYLIGHT
TZOFFSETFROM:+0100
TZOFFSETTO:+0200
TZNAME:CEST
DTSTART:20240331T010000
END:DAYLIGHT
BEGIN:STANDARD
TZOFFSETFROM:+0200
TZOFFSETTO:+0100
TZNAME:CET
DTSTART:20241027T010000
END:STANDARD
BEGIN:DAYLIGHT
TZOFFSETFROM:+0100
TZOFFSETTO:+0200
TZNAME:CEST
DTSTART:20250330T010000
END:DAYLIGHT
BEGIN:STANDARD
TZOFFSETFROM:+0200
TZOFFSETTO:+0100
TZNAME:CET
DTSTART:20251026T010000
END:STANDARD
BEGIN:DAYLIGHT
TZOFFSETFROM:+0100
TZOFFSETTO:+0200
TZNAME:CEST
DTSTART:20260329T010000
END:DAYLIGHT
BEGIN:STANDARD
TZOFFSETFROM:+0200
TZOFFSETTO:+0100
TZNAME:CET
DTSTART:20261025T010000
END:STANDARD
END:VTIMEZONE
BEGIN:VEVENT
DTSTART;TZID=Europe/Berlin:20251125T150000
DTEND;TZID=Europe/Berlin:20251125T150000
DTSTAMP:20260421T083755
CREATED:20251024T145615Z
LAST-MODIFIED:20251024T145633Z
UID:12580-1764082800-1764082800@vav-lichtenberg.de
SUMMARY:Musik-Café
DESCRIPTION:Tenöre aus Südamerika\nVorgestellt werden Tenöre aus Südamerika der Vergangenheit und Gegenwart mit bekannten lyrischen und dramatischen Arien u.a. Francesco Araiza\, Luigi Alva\, Marcelo Alvarez\, Ronaldo Villazon \nKaffee und Kuchen auf Spendenbasis.\nAnmeldung erforderlich bis 24.11.2025 unter 030 96277110 oder booking@vav-lichtenberg.de
URL:https://vav-lichtenberg.de/aktuelles/musik-cafe-9/
LOCATION:Dünenpavillon (Raum 0.11)\, Ribnitzer Str. 1b\, Berlin\, 13051
CATEGORIES:Musik-Café
ATTACH;FMTTYPE=image/jpeg:https://vav-lichtenberg.de/wp-content/uploads/MusikCafe-Teaser.jpg
ORGANIZER;CN="Verein f%C3%BCr aktive Vielfalt e.V.":MAILTO:booking@vav-lichtenberg.de
END:VEVENT
BEGIN:VEVENT
DTSTART;TZID=Europe/Berlin:20251125T150000
DTEND;TZID=Europe/Berlin:20251125T150000
DTSTAMP:20260421T083755
CREATED:20251024T150413Z
LAST-MODIFIED:20251024T150441Z
UID:12582-1764082800-1764082800@vav-lichtenberg.de
SUMMARY:Kreativ-Workshop Mosaik
DESCRIPTION:Mosaik gestalten – Für Jung und Alt\nWir gestalten gemeinsam kreative Kunstwerke aus kleinen\, farbenfrohen Mosaiksteinen. Es sind keine Vorkenntnisse notwendig. \n\nMaximale Teilnahmezahl: 10 Personen\nMaterialkosten: 2\,00 Euro\nAnmeldung erbeten unter 030 96277110 oder booking@vav-lichtenberg.de
URL:https://vav-lichtenberg.de/aktuelles/kreativ-workshop-mosaik/
LOCATION:Kreativwerkstatt (Raum 0.07)\, Ribnitzer Str. 1b\, Berlin\, 13051
CATEGORIES:Basteln,Kreativ,Workshop
ATTACH;FMTTYPE=image/png:https://vav-lichtenberg.de/wp-content/uploads/Mosaik-Teaser.png
ORGANIZER;CN="Verein f%C3%BCr aktive Vielfalt e.V.":MAILTO:booking@vav-lichtenberg.de
END:VEVENT
END:VCALENDAR