BEGIN:VCALENDAR
VERSION:2.0
PRODID:-//Verein für aktive Vielfalt e.V. - ECPv6.15.20//NONSGML v1.0//EN
CALSCALE:GREGORIAN
METHOD:PUBLISH
X-ORIGINAL-URL:https://vav-lichtenberg.de
X-WR-CALDESC:Veranstaltungen für Verein für aktive Vielfalt e.V.
REFRESH-INTERVAL;VALUE=DURATION:PT1H
X-Robots-Tag:noindex
X-PUBLISHED-TTL:PT1H
BEGIN:VTIMEZONE
TZID:Europe/Berlin
BEGIN:DAYLIGHT
TZOFFSETFROM:+0100
TZOFFSETTO:+0200
TZNAME:CEST
DTSTART:20240331T010000
END:DAYLIGHT
BEGIN:STANDARD
TZOFFSETFROM:+0200
TZOFFSETTO:+0100
TZNAME:CET
DTSTART:20241027T010000
END:STANDARD
BEGIN:DAYLIGHT
TZOFFSETFROM:+0100
TZOFFSETTO:+0200
TZNAME:CEST
DTSTART:20250330T010000
END:DAYLIGHT
BEGIN:STANDARD
TZOFFSETFROM:+0200
TZOFFSETTO:+0100
TZNAME:CET
DTSTART:20251026T010000
END:STANDARD
BEGIN:DAYLIGHT
TZOFFSETFROM:+0100
TZOFFSETTO:+0200
TZNAME:CEST
DTSTART:20260329T010000
END:DAYLIGHT
BEGIN:STANDARD
TZOFFSETFROM:+0200
TZOFFSETTO:+0100
TZNAME:CET
DTSTART:20261025T010000
END:STANDARD
END:VTIMEZONE
BEGIN:VEVENT
DTSTART;TZID=Europe/Berlin:20251219T160000
DTEND;TZID=Europe/Berlin:20251219T160000
DTSTAMP:20260421T004459
CREATED:20251209T153142Z
LAST-MODIFIED:20251209T153245Z
UID:12911-1766160000-1766160000@vav-lichtenberg.de
SUMMARY:Weihnachtliches Singen
DESCRIPTION:Zur Einstimmung auf die kommenden Weihnachtstage singen wir auch in diesem Jahr gemeinsam Weihnachtslieder. Wir freuen uns über zahlreiche Mitsingende. \nDer Eintritt ist frei. Ein Liederbuch wird gestellt.
URL:https://vav-lichtenberg.de/aktuelles/weihnachtliches-singen/
LOCATION:Dünenpavillon (Raum 0.11)\, Ribnitzer Str. 1b\, Berlin\, 13051
ATTACH;FMTTYPE=image/jpeg:https://vav-lichtenberg.de/wp-content/uploads/Weihnachtssingen-Teaser.jpg
ORGANIZER;CN="Verein f%C3%BCr aktive Vielfalt e.V.":MAILTO:booking@vav-lichtenberg.de
END:VEVENT
END:VCALENDAR