BEGIN:VCALENDAR
VERSION:2.0
PRODID:-//Verein für aktive Vielfalt e.V. - ECPv6.15.20//NONSGML v1.0//EN
CALSCALE:GREGORIAN
METHOD:PUBLISH
X-WR-CALNAME:Verein für aktive Vielfalt e.V.
X-ORIGINAL-URL:https://vav-lichtenberg.de
X-WR-CALDESC:Veranstaltungen für Verein für aktive Vielfalt e.V.
REFRESH-INTERVAL;VALUE=DURATION:PT1H
X-Robots-Tag:noindex
X-PUBLISHED-TTL:PT1H
BEGIN:VTIMEZONE
TZID:Europe/Berlin
BEGIN:DAYLIGHT
TZOFFSETFROM:+0100
TZOFFSETTO:+0200
TZNAME:CEST
DTSTART:20250330T010000
END:DAYLIGHT
BEGIN:STANDARD
TZOFFSETFROM:+0200
TZOFFSETTO:+0100
TZNAME:CET
DTSTART:20251026T010000
END:STANDARD
BEGIN:DAYLIGHT
TZOFFSETFROM:+0100
TZOFFSETTO:+0200
TZNAME:CEST
DTSTART:20260329T010000
END:DAYLIGHT
BEGIN:STANDARD
TZOFFSETFROM:+0200
TZOFFSETTO:+0100
TZNAME:CET
DTSTART:20261025T010000
END:STANDARD
BEGIN:DAYLIGHT
TZOFFSETFROM:+0100
TZOFFSETTO:+0200
TZNAME:CEST
DTSTART:20270328T010000
END:DAYLIGHT
BEGIN:STANDARD
TZOFFSETFROM:+0200
TZOFFSETTO:+0100
TZNAME:CET
DTSTART:20271031T010000
END:STANDARD
END:VTIMEZONE
BEGIN:VEVENT
DTSTART;TZID=Europe/Berlin:20260114T100000
DTEND;TZID=Europe/Berlin:20260114T100000
DTSTAMP:20260421T003503
CREATED:20251222T122504Z
LAST-MODIFIED:20251222T122536Z
UID:13019-1768384800-1768384800@vav-lichtenberg.de
SUMMARY:Wandere mit\, bleibe fit
DESCRIPTION:Naturschutzgebiet Erpetal (ca.12km)\nVom Kurpark Friedrichshagen wandern wir durch das Erpetal\, vorbei an der Ravensteiner Mühle und Heidemühle sowie durch das Naturwaldprojekt und die Buchenwälder von Friedrichshagen. \n\norganisiert von Bernd Marinitsch\nmaximale Teilnahmezahl: 25\nAnmeldung erforderlich bis 12.01.2026 unter 030 9817710 oder bemar@t-online.de\nTreffpunkt: S-Bahnhof Hohenschönhausen\nFahrkarte: AB oder Deutschland-Ticket
URL:https://vav-lichtenberg.de/aktuelles/wandere-mit-bleibe-fit/
LOCATION:Bahnhof Hohenschönhausen
CATEGORIES:Wanderung
ATTACH;FMTTYPE=image/jpeg:https://vav-lichtenberg.de/wp-content/uploads/Wandere_mit-Teaser.jpg
ORGANIZER;CN="Verein f%C3%BCr aktive Vielfalt e.V.":MAILTO:booking@vav-lichtenberg.de
END:VEVENT
BEGIN:VEVENT
DTSTART;TZID=Europe/Berlin:20260114T160000
DTEND;TZID=Europe/Berlin:20260114T160000
DTSTAMP:20260421T003503
CREATED:20251222T122758Z
LAST-MODIFIED:20251222T122758Z
UID:13021-1768406400-1768406400@vav-lichtenberg.de
SUMMARY:Sing mit – Singen für alle
DESCRIPTION:Singen in gemütlicher Lagerfeueratmosphäre mit Udo Glaser. \nEs sind keine musikalischen Voraussetzungen notwendig. Gesungen werden alle Genre von Volksliedern über Oldies bis zu Popsongs. \n 
URL:https://vav-lichtenberg.de/aktuelles/sing-mit-singen-fuer-alle-7/
LOCATION:Schmökerstube (Raum 1.17)\, Ribnitzer Str. 1b\, Berlin\, 13051
CATEGORIES:Singen
ATTACH;FMTTYPE=image/jpeg:https://vav-lichtenberg.de/wp-content/uploads/Sing_mit-Teaser-2.jpg
ORGANIZER;CN="Verein f%C3%BCr aktive Vielfalt e.V.":MAILTO:booking@vav-lichtenberg.de
END:VEVENT
END:VCALENDAR