BEGIN:VCALENDAR
VERSION:2.0
PRODID:-//Verein für aktive Vielfalt e.V. - ECPv6.15.20//NONSGML v1.0//EN
CALSCALE:GREGORIAN
METHOD:PUBLISH
X-WR-CALNAME:Verein für aktive Vielfalt e.V.
X-ORIGINAL-URL:https://vav-lichtenberg.de
X-WR-CALDESC:Veranstaltungen für Verein für aktive Vielfalt e.V.
REFRESH-INTERVAL;VALUE=DURATION:PT1H
X-Robots-Tag:noindex
X-PUBLISHED-TTL:PT1H
BEGIN:VTIMEZONE
TZID:Europe/Berlin
BEGIN:DAYLIGHT
TZOFFSETFROM:+0100
TZOFFSETTO:+0200
TZNAME:CEST
DTSTART:20240331T010000
END:DAYLIGHT
BEGIN:STANDARD
TZOFFSETFROM:+0200
TZOFFSETTO:+0100
TZNAME:CET
DTSTART:20241027T010000
END:STANDARD
BEGIN:DAYLIGHT
TZOFFSETFROM:+0100
TZOFFSETTO:+0200
TZNAME:CEST
DTSTART:20250330T010000
END:DAYLIGHT
BEGIN:STANDARD
TZOFFSETFROM:+0200
TZOFFSETTO:+0100
TZNAME:CET
DTSTART:20251026T010000
END:STANDARD
BEGIN:DAYLIGHT
TZOFFSETFROM:+0100
TZOFFSETTO:+0200
TZNAME:CEST
DTSTART:20260329T010000
END:DAYLIGHT
BEGIN:STANDARD
TZOFFSETFROM:+0200
TZOFFSETTO:+0100
TZNAME:CET
DTSTART:20261025T010000
END:STANDARD
END:VTIMEZONE
BEGIN:VEVENT
DTSTART;TZID=Europe/Berlin:20251103T160000
DTEND;TZID=Europe/Berlin:20251103T180000
DTSTAMP:20260422T143733
CREATED:20251017T122511Z
LAST-MODIFIED:20251017T122601Z
UID:12441-1762185600-1762192800@vav-lichtenberg.de
SUMMARY:Kleidertausch
DESCRIPTION:Bringen Sie ihre gut erhaltene Kleidung mit und tauschen Sie sie gegen neue Lieblingsstücke aus.\nDas Event ist eine tolle Gelegenheit\, Ihre Garderobe aufzufrischen und nachhaltig zu handeln.\nGetauscht werden Kleidung\, Schuhe und Co.\nKleidungsstücke\, die nicht getauscht werden\, sind bitte wieder mitzunehmen.\nKaffee und Knabberei auf Spendenbasis
URL:https://vav-lichtenberg.de/aktuelles/kleidertausch-5/
LOCATION:Dünenpavillon (Raum 0.11)\, Ribnitzer Str. 1b\, Berlin\, 13051
CATEGORIES:Kleidertausch
ATTACH;FMTTYPE=image/png:https://vav-lichtenberg.de/wp-content/uploads/Kleidertausch-Teaser.png
ORGANIZER;CN="Verein f%C3%BCr aktive Vielfalt e.V.":MAILTO:booking@vav-lichtenberg.de
END:VEVENT
BEGIN:VEVENT
DTSTART;TZID=Europe/Berlin:20251105T160000
DTEND;TZID=Europe/Berlin:20251105T160000
DTSTAMP:20260422T143733
CREATED:20251017T122851Z
LAST-MODIFIED:20251017T122906Z
UID:12443-1762358400-1762358400@vav-lichtenberg.de
SUMMARY:Sing mit – Singen für alle
DESCRIPTION:Singen in gemütlicher Lagerfeueratmosphäre mit Udo Glaser. \nEs sind keine musikalischen Voraussetzungen notwendig. Gesungen werden alle Genre von Volksliedern über Oldies bis zu Popsongs. \n 
URL:https://vav-lichtenberg.de/aktuelles/sing-mit-singen-fuer-alle-3/
LOCATION:Schmökerstube (Raum 1.17)\, Ribnitzer Str. 1b\, Berlin\, 13051
CATEGORIES:Singen
ATTACH;FMTTYPE=image/jpeg:https://vav-lichtenberg.de/wp-content/uploads/Sing_mit-Teaser-2.jpg
ORGANIZER;CN="Verein f%C3%BCr aktive Vielfalt e.V.":MAILTO:booking@vav-lichtenberg.de
END:VEVENT
BEGIN:VEVENT
DTSTART;TZID=Europe/Berlin:20251106T160000
DTEND;TZID=Europe/Berlin:20251106T160000
DTSTAMP:20260422T143733
CREATED:20251017T123343Z
LAST-MODIFIED:20251017T123422Z
UID:12445-1762444800-1762444800@vav-lichtenberg.de
SUMMARY:Infoveranstaltung für Allein- und Getrennterziehende
DESCRIPTION:(Kindes-)Umgang nach der Trennung\nAn diesem Infoabend erhalten Sie grundlegende Informationen zu Umgangsmodellen.\nSie erfahren\, welche Rechte und Pflichten Sie nach der Trennung in Bezug auf gemeinsame Kinder haben und was Sie beachten müssen. \nAnmeldung unter beratung-alleinerziehende@vav-lichtenberg.de\nKinderbetreuung auf Anfrage
URL:https://vav-lichtenberg.de/aktuelles/infoveranstaltung-fuer-allein-und-getrennterziehende-2/
LOCATION:Nachbarschaftshaus im Ostseeviertel
CATEGORIES:Informationsveranstaltung
ATTACH;FMTTYPE=image/png:https://vav-lichtenberg.de/wp-content/uploads/Anlauf_Allein-251106-Teaser.png
END:VEVENT
BEGIN:VEVENT
DTSTART;TZID=Europe/Berlin:20251109T150000
DTEND;TZID=Europe/Berlin:20251109T150000
DTSTAMP:20260422T143733
CREATED:20251017T123700Z
LAST-MODIFIED:20251017T123718Z
UID:12448-1762700400-1762700400@vav-lichtenberg.de
SUMMARY:Spielenachmittag im Café Klönsnack
DESCRIPTION:Spielenachmittag bei Kaffee und Kuchen in unserem Café Klönsnack. \nKommen Sie zum Spielen in unser Café oder auch nur zum Plaudern und auf einen Sonntagskaffee.
URL:https://vav-lichtenberg.de/aktuelles/spielenachmittag-im-cafe-kloensnack/
LOCATION:Café Klönsnack\, Ribnitzer Str. 1b\, Berlin\, 13051\, Deutschland
CATEGORIES:Spielenachmittag
ATTACH;FMTTYPE=image/jpeg:https://vav-lichtenberg.de/wp-content/uploads/Spielenachmittag_Teaser.jpg
ORGANIZER;CN="Verein f%C3%BCr aktive Vielfalt e.V.":MAILTO:booking@vav-lichtenberg.de
END:VEVENT
BEGIN:VEVENT
DTSTART;TZID=Europe/Berlin:20251112T094500
DTEND;TZID=Europe/Berlin:20251112T094500
DTSTAMP:20260422T143733
CREATED:20251017T124149Z
LAST-MODIFIED:20251017T124208Z
UID:12450-1762940700-1762940700@vav-lichtenberg.de
SUMMARY:Wandere mit
DESCRIPTION:Rund um den Lehnitzsee (ca.11km)\nVon Oranienburg wandern wir am westlichen Ufer des Lehnitzsees bis zur Schleuse und machen anschließend einen Abstecher zur Friedrich-Wolf-Gedenkstätte.\nDer Rückweg führt am Oder-Havel-Kanal entlang wieder zum Bahnhof Oranienburg.\nAnmeldung erforderlich bis 10.11.2025 unter 030 9817710 oder bemar@t-online.de\nTreffpunkt: Bahnsteig Regionalbahn Templin Hohenschönhausen\nFahrkarte: ABC oder Deutschland-Ticket
URL:https://vav-lichtenberg.de/aktuelles/wandere-mit/
LOCATION:Bahnhof Hohenschönhausen
CATEGORIES:Wanderung
ATTACH;FMTTYPE=image/jpeg:https://vav-lichtenberg.de/wp-content/uploads/Wandere_mit-Teaser.jpg
ORGANIZER;CN="Verein f%C3%BCr aktive Vielfalt e.V.":MAILTO:booking@vav-lichtenberg.de
END:VEVENT
BEGIN:VEVENT
DTSTART;TZID=Europe/Berlin:20251114T160000
DTEND;TZID=Europe/Berlin:20251114T160000
DTSTAMP:20260422T143733
CREATED:20251024T144420Z
LAST-MODIFIED:20251024T144433Z
UID:12560-1763136000-1763136000@vav-lichtenberg.de
SUMMARY:Repair-Café
DESCRIPTION:Kommen Sie mit Ihrem Problem zu uns:\n• Wir geben Hilfe zur Selbsthilfe\n• Wir helfen\, wenn Sie nicht mehr weiter wissen\n• Mit fachkundiger Hilfe wird auch Ihr altes Schätzchen wieder zum Leben erweckt \nTermine einsehbar unter:\nhttps://www.reparatur-initiativen.de/repair-cafe-berlin-lichtenberg \nGemeinsam leisten wir einen Beitrag zu mehr Nachhaltigkeit!
URL:https://vav-lichtenberg.de/aktuelles/repair-cafe-17/
LOCATION:Café Klönsnack\, Ribnitzer Str. 1b\, Berlin\, 13051\, Deutschland
CATEGORIES:Repair-Cafe
ATTACH;FMTTYPE=image/jpeg:https://vav-lichtenberg.de/wp-content/uploads/Repaircafe-Teaser-1.jpg
ORGANIZER;CN="Verein f%C3%BCr aktive Vielfalt e.V.":MAILTO:booking@vav-lichtenberg.de
END:VEVENT
BEGIN:VEVENT
DTSTART;TZID=Europe/Berlin:20251114T173000
DTEND;TZID=Europe/Berlin:20251114T173000
DTSTAMP:20260422T143733
CREATED:20251024T144705Z
LAST-MODIFIED:20251024T144716Z
UID:12570-1763141400-1763141400@vav-lichtenberg.de
SUMMARY:Kneipen-Quiz
DESCRIPTION:Die Teams quizzen sich bei kalten Getränken und kleinen Snacks durch zwei Spielrunden mit jeweils 12 Quizfragen\, die so vielfältig sind\, wie unser Stadtteil selbst. Das Team mit den meisten Punkten geht in unsere Chronik ein und wird mit einem Preis belohnt. \n\nMaximale Teilnahmezahl: 40\nAnmeldung erforderlich bis 11.11.2025 unter 030 96277110 oder booking@vav-lichtenberg.de
URL:https://vav-lichtenberg.de/aktuelles/kneipen-quiz-5/
LOCATION:Dünenpavillon (Raum 0.11)\, Ribnitzer Str. 1b\, Berlin\, 13051
CATEGORIES:Quiz
ATTACH;FMTTYPE=image/jpeg:https://vav-lichtenberg.de/wp-content/uploads/Kneipenquiz-Teaser.jpg
ORGANIZER;CN="Verein f%C3%BCr aktive Vielfalt e.V.":MAILTO:booking@vav-lichtenberg.de
END:VEVENT
BEGIN:VEVENT
DTSTART;TZID=Europe/Berlin:20251116T103000
DTEND;TZID=Europe/Berlin:20251116T103000
DTSTAMP:20260422T143733
CREATED:20251029T161615Z
LAST-MODIFIED:20251029T161615Z
UID:12608-1763289000-1763289000@vav-lichtenberg.de
SUMMARY:Sonntagskonzert mit Dagmar Frederic
DESCRIPTION:Wir laden ein zum musikalischen Vormittag mit der Schirmherrin unseres Wohnprojektes „Undine“\, Dagmar Frederic.\nSeit 60 Jahren im Showgeschäft kennt die dynamische Künstlerin alle Nuancen dieses Berufes\, den sie von der Pike auf gelernt hat. \nKartenvorbestellungen unter vorstand@vav-lichtenberg.de
URL:https://vav-lichtenberg.de/aktuelles/sonntagskonzert-mit-dagmar-frederic/
LOCATION:Dünenpavillon (Raum 0.11)\, Ribnitzer Str. 1b\, Berlin\, 13051
CATEGORIES:Konzert,Live-Musik,Sonntagslesung
ATTACH;FMTTYPE=image/jpeg:https://vav-lichtenberg.de/wp-content/uploads/Sonntagskonzert.jpg
ORGANIZER;CN="Verein f%C3%BCr aktive Vielfalt e.V.":MAILTO:booking@vav-lichtenberg.de
END:VEVENT
BEGIN:VEVENT
DTSTART;TZID=Europe/Berlin:20251118T140000
DTEND;TZID=Europe/Berlin:20251118T140000
DTSTAMP:20260422T143733
CREATED:20251024T144847Z
LAST-MODIFIED:20251024T144900Z
UID:12572-1763474400-1763474400@vav-lichtenberg.de
SUMMARY:Spaziergangsgruppe Ostseeviertel
DESCRIPTION:Nutzen Sie unseren ehrenamtlich geführten Spaziergang um frische Luft zu tanken und in Bewegung zu bleiben. In kleiner Gruppe gehen Sie durch den Kiez. Nach ca. einer Stunde endet die Runde wieder bei uns. Kehren Sie dann gern gemeinsam in unserem Café Klönsnack ein. \nAnmeldung erforderlich bis 1 Tag vorher unter: ☏ 030 96277110 oder ✉ booking@vav-lichtenberg.de
URL:https://vav-lichtenberg.de/aktuelles/spaziergangsgruppe-ostseeviertel-8/
LOCATION:Nachbarschaftshaus im Ostseeviertel
CATEGORIES:Spaziergangsgruppe
ATTACH;FMTTYPE=image/jpeg:https://vav-lichtenberg.de/wp-content/uploads/Spaziergangsgruppe-Teaser-2.jpg
ORGANIZER;CN="Verein f%C3%BCr aktive Vielfalt e.V.":MAILTO:booking@vav-lichtenberg.de
END:VEVENT
BEGIN:VEVENT
DTSTART;TZID=Europe/Berlin:20251119T160000
DTEND;TZID=Europe/Berlin:20251119T160000
DTSTAMP:20260422T143733
CREATED:20251024T145012Z
LAST-MODIFIED:20251024T145025Z
UID:12574-1763568000-1763568000@vav-lichtenberg.de
SUMMARY:Sing mit – Singen für alle
DESCRIPTION:Singen in gemütlicher Lagerfeueratmosphäre mit Udo Glaser. \nEs sind keine musikalischen Voraussetzungen notwendig. Gesungen werden alle Genre von Volksliedern über Oldies bis zu Popsongs. \n 
URL:https://vav-lichtenberg.de/aktuelles/sing-mit-singen-fuer-alle-4/
LOCATION:Schmökerstube (Raum 1.17)\, Ribnitzer Str. 1b\, Berlin\, 13051
CATEGORIES:Singen
ATTACH;FMTTYPE=image/jpeg:https://vav-lichtenberg.de/wp-content/uploads/Sing_mit-Teaser-2.jpg
ORGANIZER;CN="Verein f%C3%BCr aktive Vielfalt e.V.":MAILTO:booking@vav-lichtenberg.de
END:VEVENT
BEGIN:VEVENT
DTSTART;TZID=Europe/Berlin:20251120T150000
DTEND;TZID=Europe/Berlin:20251120T150000
DTSTAMP:20260422T143733
CREATED:20251024T145148Z
LAST-MODIFIED:20251024T145158Z
UID:12576-1763650800-1763650800@vav-lichtenberg.de
SUMMARY:Kreatives Schreiben
DESCRIPTION:An alle\, die gerne Lesen und Schreiben\, die immer mal Erinnerungen in Worte fassen wollten und Lust auf kreatives Arbeiten haben. Gereimtes\, Ungereimtes\, Absurdes\, Alltägliches und Lustiges kann und will aufgeschrieben werden. \n\nDie Teilnahme ist kostenlos.\nAnmeldung erforderlich bis 17.11.2025 unter 030 96277110 oder booking@vav-lichtenberg.de
URL:https://vav-lichtenberg.de/aktuelles/kreatives-schreiben-9/
LOCATION:Schmökerstube (Raum 1.17)\, Ribnitzer Str. 1b\, Berlin\, 13051
CATEGORIES:Kreatives Schreiben
ATTACH;FMTTYPE=image/jpeg:https://vav-lichtenberg.de/wp-content/uploads/Kreatives_Schreiben-Teaser.jpg
ORGANIZER;CN="Verein f%C3%BCr aktive Vielfalt e.V.":MAILTO:booking@vav-lichtenberg.de
END:VEVENT
BEGIN:VEVENT
DTSTART;TZID=Europe/Berlin:20251121T180000
DTEND;TZID=Europe/Berlin:20251121T180000
DTSTAMP:20260422T143733
CREATED:20250926T134914Z
LAST-MODIFIED:20251010T100307Z
UID:12302-1763748000-1763748000@vav-lichtenberg.de
SUMMARY:Reise um die Welt – Demokratische Republik Kongo
DESCRIPTION:Erleben Sie einen informativen Vortrag über das Land\, seine Kultur und Geschichte. Freuen Sie sich auf lebendige musikalische und kulturelle Beiträge\, die Einblicke in die vielfältigen Traditionen der Republik Kongo geben. \nAußerdem bieten wir Ihnen die Möglichkeit\, landestypische Speisen zu probieren und so einen besonderen Geschmack des Landes kennenzulernen. \n\nMindestteilnahmezahl: 20 Personen\nAnmeldung erforderlich bis 18.11.2025 unter 030 96277110 oder booking@vav-lichtenberg.de
URL:https://vav-lichtenberg.de/aktuelles/reise-um-die-welt-demokratische-republik-kongo/
LOCATION:Dünenpavillon (Raum 0.11)\, Ribnitzer Str. 1b\, Berlin\, 13051
CATEGORIES:Reise um die Welt
ATTACH;FMTTYPE=image/png:https://vav-lichtenberg.de/wp-content/uploads/RudW-Teaser.png
ORGANIZER;CN="Verein f%C3%BCr aktive Vielfalt e.V.":MAILTO:booking@vav-lichtenberg.de
END:VEVENT
BEGIN:VEVENT
DTSTART;TZID=Europe/Berlin:20251125T150000
DTEND;TZID=Europe/Berlin:20251125T150000
DTSTAMP:20260422T143733
CREATED:20251024T145615Z
LAST-MODIFIED:20251024T145633Z
UID:12580-1764082800-1764082800@vav-lichtenberg.de
SUMMARY:Musik-Café
DESCRIPTION:Tenöre aus Südamerika\nVorgestellt werden Tenöre aus Südamerika der Vergangenheit und Gegenwart mit bekannten lyrischen und dramatischen Arien u.a. Francesco Araiza\, Luigi Alva\, Marcelo Alvarez\, Ronaldo Villazon \nKaffee und Kuchen auf Spendenbasis.\nAnmeldung erforderlich bis 24.11.2025 unter 030 96277110 oder booking@vav-lichtenberg.de
URL:https://vav-lichtenberg.de/aktuelles/musik-cafe-9/
LOCATION:Dünenpavillon (Raum 0.11)\, Ribnitzer Str. 1b\, Berlin\, 13051
CATEGORIES:Musik-Café
ATTACH;FMTTYPE=image/jpeg:https://vav-lichtenberg.de/wp-content/uploads/MusikCafe-Teaser.jpg
ORGANIZER;CN="Verein f%C3%BCr aktive Vielfalt e.V.":MAILTO:booking@vav-lichtenberg.de
END:VEVENT
BEGIN:VEVENT
DTSTART;TZID=Europe/Berlin:20251125T150000
DTEND;TZID=Europe/Berlin:20251125T150000
DTSTAMP:20260422T143733
CREATED:20251024T150413Z
LAST-MODIFIED:20251024T150441Z
UID:12582-1764082800-1764082800@vav-lichtenberg.de
SUMMARY:Kreativ-Workshop Mosaik
DESCRIPTION:Mosaik gestalten – Für Jung und Alt\nWir gestalten gemeinsam kreative Kunstwerke aus kleinen\, farbenfrohen Mosaiksteinen. Es sind keine Vorkenntnisse notwendig. \n\nMaximale Teilnahmezahl: 10 Personen\nMaterialkosten: 2\,00 Euro\nAnmeldung erbeten unter 030 96277110 oder booking@vav-lichtenberg.de
URL:https://vav-lichtenberg.de/aktuelles/kreativ-workshop-mosaik/
LOCATION:Kreativwerkstatt (Raum 0.07)\, Ribnitzer Str. 1b\, Berlin\, 13051
CATEGORIES:Basteln,Kreativ,Workshop
ATTACH;FMTTYPE=image/png:https://vav-lichtenberg.de/wp-content/uploads/Mosaik-Teaser.png
ORGANIZER;CN="Verein f%C3%BCr aktive Vielfalt e.V.":MAILTO:booking@vav-lichtenberg.de
END:VEVENT
BEGIN:VEVENT
DTSTART;TZID=Europe/Berlin:20251127T150000
DTEND;TZID=Europe/Berlin:20251127T150000
DTSTAMP:20260422T143733
CREATED:20251024T151235Z
LAST-MODIFIED:20251024T151249Z
UID:12585-1764255600-1764255600@vav-lichtenberg.de
SUMMARY:Weihnachtsbaum-Schmücken
DESCRIPTION:Oh Tannenbaum\, Oh Tannenbaum – wir schmücken deine Blätter \nWie in jedem Jahr schmücken wir gemeinsam mit der Nachbarschaft auf dem Vorplatz des S-Bahnhofs „Wartenberg“ unseren Weihnachtsbaum und leiten mit Weihnachtsliedern\,  Plätzchen und Heißgetränken mit Ihnen zusammen die besinnliche Weihnachtszeit ein. \nÜber selbstgebastelten Weihnachtsbaum-Schmuck\, kreative Ideen und vor allem über zahlreiche und tatkräftig unterstützende Hände freuen wir uns.
URL:https://vav-lichtenberg.de/aktuelles/weihnachtsbaum-schmuecken/
LOCATION:Willy-Abel-Platz (Vorplatz S-Bahnhof Wartenberg)\, Berlin-Hohenschönhausen\, 13051\, Germany
CATEGORIES:Weihnachtszeit
ATTACH;FMTTYPE=image/jpeg:https://vav-lichtenberg.de/wp-content/uploads/Weihnachtsbaumschmuecken-Teaser-1.jpg
ORGANIZER;CN="Verein f%C3%BCr aktive Vielfalt e.V.":MAILTO:booking@vav-lichtenberg.de
END:VEVENT
BEGIN:VEVENT
DTSTART;TZID=Europe/Berlin:20251128T160000
DTEND;TZID=Europe/Berlin:20251128T160000
DTSTAMP:20260422T143733
CREATED:20251125T144711Z
LAST-MODIFIED:20251125T144711Z
UID:12733-1764345600-1764345600@vav-lichtenberg.de
SUMMARY:Repair-Café
DESCRIPTION:Kommen Sie mit Ihrem Problem zu uns:\n• Wir geben Hilfe zur Selbsthilfe\n• Wir helfen\, wenn Sie nicht mehr weiter wissen\n• Mit fachkundiger Hilfe wird auch Ihr altes Schätzchen wieder zum Leben erweckt \nTermine einsehbar unter:\nhttps://www.reparatur-initiativen.de/repair-cafe-berlin-lichtenberg \nGemeinsam leisten wir einen Beitrag zu mehr Nachhaltigkeit!
URL:https://vav-lichtenberg.de/aktuelles/repair-cafe-2/
LOCATION:Café Klönsnack\, Ribnitzer Str. 1b\, Berlin\, 13051\, Deutschland
CATEGORIES:Repair-Cafe
ATTACH;FMTTYPE=image/jpeg:https://vav-lichtenberg.de/wp-content/uploads/Repaircafe-Teaser-1.jpg
ORGANIZER;CN="Verein f%C3%BCr aktive Vielfalt e.V.":MAILTO:booking@vav-lichtenberg.de
END:VEVENT
END:VCALENDAR