BEGIN:VCALENDAR
VERSION:2.0
PRODID:-//Verein für aktive Vielfalt e.V. - ECPv6.15.20//NONSGML v1.0//EN
CALSCALE:GREGORIAN
METHOD:PUBLISH
X-ORIGINAL-URL:https://vav-lichtenberg.de
X-WR-CALDESC:Veranstaltungen für Verein für aktive Vielfalt e.V.
REFRESH-INTERVAL;VALUE=DURATION:PT1H
X-Robots-Tag:noindex
X-PUBLISHED-TTL:PT1H
BEGIN:VTIMEZONE
TZID:Europe/Berlin
BEGIN:DAYLIGHT
TZOFFSETFROM:+0100
TZOFFSETTO:+0200
TZNAME:CEST
DTSTART:20250330T010000
END:DAYLIGHT
BEGIN:STANDARD
TZOFFSETFROM:+0200
TZOFFSETTO:+0100
TZNAME:CET
DTSTART:20251026T010000
END:STANDARD
BEGIN:DAYLIGHT
TZOFFSETFROM:+0100
TZOFFSETTO:+0200
TZNAME:CEST
DTSTART:20260329T010000
END:DAYLIGHT
BEGIN:STANDARD
TZOFFSETFROM:+0200
TZOFFSETTO:+0100
TZNAME:CET
DTSTART:20261025T010000
END:STANDARD
BEGIN:DAYLIGHT
TZOFFSETFROM:+0100
TZOFFSETTO:+0200
TZNAME:CEST
DTSTART:20270328T010000
END:DAYLIGHT
BEGIN:STANDARD
TZOFFSETFROM:+0200
TZOFFSETTO:+0100
TZNAME:CET
DTSTART:20271031T010000
END:STANDARD
END:VTIMEZONE
BEGIN:VEVENT
DTSTART;TZID=Europe/Berlin:20260104T080000
DTEND;TZID=Europe/Berlin:20260104T170000
DTSTAMP:20260420T195341
CREATED:20251218T165338Z
LAST-MODIFIED:20251218T165338Z
UID:12994-1767513600-1767546000@vav-lichtenberg.de
SUMMARY:Wir sind ab dem 5. Januar wieder für Sie da!
DESCRIPTION:
URL:https://vav-lichtenberg.de/aktuelles/wir-sind-ab-dem-5-januar-wieder-fuer-sie-da/
LOCATION:Nachbarschaftshaus im Ostseeviertel
ATTACH;FMTTYPE=image/png:https://vav-lichtenberg.de/wp-content/uploads/Frohes_Fest-Teaser.png
ORGANIZER;CN="Verein f%C3%BCr aktive Vielfalt e.V.":MAILTO:booking@vav-lichtenberg.de
END:VEVENT
BEGIN:VEVENT
DTSTART;TZID=Europe/Berlin:20260106T140000
DTEND;TZID=Europe/Berlin:20260106T140000
DTSTAMP:20260420T195341
CREATED:20251222T152024Z
LAST-MODIFIED:20251222T152054Z
UID:13042-1767708000-1767708000@vav-lichtenberg.de
SUMMARY:Der Laden - mobil -
DESCRIPTION:Kleidung\, Mode\, Accessoires\nMit Kaffeeklatsch in gemütlicher Runde.\nSachspenden werden zur Öffnungszeit angenommen.
URL:https://vav-lichtenberg.de/aktuelles/der-laden-mobil/
LOCATION:Nachbarschaftscafé (Raum 0.05)
CATEGORIES:Flohmarkt
ATTACH;FMTTYPE=image/png:https://vav-lichtenberg.de/wp-content/uploads/Der-Laden-7tg-Teaser.png
ORGANIZER;CN="Verein f%C3%BCr aktive Vielfalt e.V.":MAILTO:booking@vav-lichtenberg.de
END:VEVENT
BEGIN:VEVENT
DTSTART;TZID=Europe/Berlin:20260109T160000
DTEND;TZID=Europe/Berlin:20260109T160000
DTSTAMP:20260420T195341
CREATED:20251218T164924Z
LAST-MODIFIED:20251218T165024Z
UID:12991-1767974400-1767974400@vav-lichtenberg.de
SUMMARY:Repair-Café
DESCRIPTION:Kommen Sie mit Ihrem Problem zu uns:\n• Wir geben Hilfe zur Selbsthilfe\n• Wir helfen\, wenn Sie nicht mehr weiter wissen\n• Mit fachkundiger Hilfe wird auch Ihr altes Schätzchen wieder zum Leben erweckt \nTermine einsehbar unter:\nhttps://www.reparatur-initiativen.de/repair-cafe-berlin-lichtenberg \nGemeinsam leisten wir einen Beitrag zu mehr Nachhaltigkeit!
URL:https://vav-lichtenberg.de/aktuelles/repair-cafe-4/
LOCATION:Nachbarschaftscafé
CATEGORIES:Repair-Cafe
ATTACH;FMTTYPE=image/jpeg:https://vav-lichtenberg.de/wp-content/uploads/Repaircafe-Teaser-1.jpg
ORGANIZER;CN="Verein f%C3%BCr aktive Vielfalt e.V.":MAILTO:booking@vav-lichtenberg.de
END:VEVENT
BEGIN:VEVENT
DTSTART;TZID=Europe/Berlin:20260112T160000
DTEND;TZID=Europe/Berlin:20260112T160000
DTSTAMP:20260420T195341
CREATED:20251218T170221Z
LAST-MODIFIED:20251218T170858Z
UID:12996-1768233600-1768233600@vav-lichtenberg.de
SUMMARY:NEU +++ Jeden Montag +++ Tischtennis-Treff
DESCRIPTION:Der Tischtennis-Treff ist offen für alle – jede*r ist herzlich willkommen! \nMan kann etwas für die Gesundheit tun\, wunderbar abschalten und den Kopf vom Alltag freibekommen. Regelmäßige Bewegung fördert das Wohlbefinden und macht einfach Spaß. \nDie Teilnahme ist kostenlos. Es ist keine Anmeldung erforderlich.
URL:https://vav-lichtenberg.de/aktuelles/tischtennis-treff/
LOCATION:Dünenpavillon (Raum 0.11)\, Ribnitzer Str. 1b\, Berlin\, 13051
CATEGORIES:Sport
ATTACH;FMTTYPE=image/png:https://vav-lichtenberg.de/wp-content/uploads/Tischtennis-Treff-Teaser.png
ORGANIZER;CN="Verein f%C3%BCr aktive Vielfalt e.V.":MAILTO:booking@vav-lichtenberg.de
END:VEVENT
BEGIN:VEVENT
DTSTART;TZID=Europe/Berlin:20260113T140000
DTEND;TZID=Europe/Berlin:20260113T140000
DTSTAMP:20260420T195341
CREATED:20251222T152143Z
LAST-MODIFIED:20251222T152143Z
UID:13044-1768312800-1768312800@vav-lichtenberg.de
SUMMARY:Der Laden - mobil -
DESCRIPTION:Kleidung\, Mode\, Accessoires\nMit Kaffeeklatsch in gemütlicher Runde.\nSachspenden werden zur Öffnungszeit angenommen.
URL:https://vav-lichtenberg.de/aktuelles/der-laden-mobil-2/
LOCATION:Nachbarschaftscafé (Raum 0.05)
CATEGORIES:Flohmarkt
ATTACH;FMTTYPE=image/png:https://vav-lichtenberg.de/wp-content/uploads/Der-Laden-7tg-Teaser.png
ORGANIZER;CN="Verein f%C3%BCr aktive Vielfalt e.V.":MAILTO:booking@vav-lichtenberg.de
END:VEVENT
BEGIN:VEVENT
DTSTART;TZID=Europe/Berlin:20260113T150000
DTEND;TZID=Europe/Berlin:20260113T150000
DTSTAMP:20260420T195341
CREATED:20251222T120821Z
LAST-MODIFIED:20260106T092735Z
UID:13012-1768316400-1768316400@vav-lichtenberg.de
SUMMARY:Kreativ- und Bastelwerkstatt
DESCRIPTION:Mosaik\nEinmal im Monat dienstags wird die Kreativ- und Bastelwerkstatt angeboten. Ob Mosaik\, Blumenbastelei\, DIY-Deko oder viele weitere gestalterische Arbeiten und Techniken – die abwechslungsreichen Themen bieten für jeden Geschmack etwas Passendes. \n\nkeine Vorkenntnisse notwendig\nMaximale Teilnahmezahl: 10 Personen\nAnmeldung erbeten unter 030 96277110 oder booking@vav-lichtenberg.de
URL:https://vav-lichtenberg.de/aktuelles/kreativ-und-bastelwerkstatt/
LOCATION:Kreativwerkstatt (Raum 0.07)\, Ribnitzer Str. 1b\, Berlin\, 13051
CATEGORIES:Basteln,Kreativ
ATTACH;FMTTYPE=image/png:https://vav-lichtenberg.de/wp-content/uploads/KreativBastelWerkstatt-Teaser.png
ORGANIZER;CN="Verein f%C3%BCr aktive Vielfalt e.V.":MAILTO:booking@vav-lichtenberg.de
END:VEVENT
BEGIN:VEVENT
DTSTART;TZID=Europe/Berlin:20260114T100000
DTEND;TZID=Europe/Berlin:20260114T100000
DTSTAMP:20260420T195341
CREATED:20251222T122504Z
LAST-MODIFIED:20251222T122536Z
UID:13019-1768384800-1768384800@vav-lichtenberg.de
SUMMARY:Wandere mit\, bleibe fit
DESCRIPTION:Naturschutzgebiet Erpetal (ca.12km)\nVom Kurpark Friedrichshagen wandern wir durch das Erpetal\, vorbei an der Ravensteiner Mühle und Heidemühle sowie durch das Naturwaldprojekt und die Buchenwälder von Friedrichshagen. \n\norganisiert von Bernd Marinitsch\nmaximale Teilnahmezahl: 25\nAnmeldung erforderlich bis 12.01.2026 unter 030 9817710 oder bemar@t-online.de\nTreffpunkt: S-Bahnhof Hohenschönhausen\nFahrkarte: AB oder Deutschland-Ticket
URL:https://vav-lichtenberg.de/aktuelles/wandere-mit-bleibe-fit/
LOCATION:Bahnhof Hohenschönhausen
CATEGORIES:Wanderung
ATTACH;FMTTYPE=image/jpeg:https://vav-lichtenberg.de/wp-content/uploads/Wandere_mit-Teaser.jpg
ORGANIZER;CN="Verein f%C3%BCr aktive Vielfalt e.V.":MAILTO:booking@vav-lichtenberg.de
END:VEVENT
BEGIN:VEVENT
DTSTART;TZID=Europe/Berlin:20260114T160000
DTEND;TZID=Europe/Berlin:20260114T160000
DTSTAMP:20260420T195341
CREATED:20251222T122758Z
LAST-MODIFIED:20251222T122758Z
UID:13021-1768406400-1768406400@vav-lichtenberg.de
SUMMARY:Sing mit – Singen für alle
DESCRIPTION:Singen in gemütlicher Lagerfeueratmosphäre mit Udo Glaser. \nEs sind keine musikalischen Voraussetzungen notwendig. Gesungen werden alle Genre von Volksliedern über Oldies bis zu Popsongs. \n 
URL:https://vav-lichtenberg.de/aktuelles/sing-mit-singen-fuer-alle-7/
LOCATION:Schmökerstube (Raum 1.17)\, Ribnitzer Str. 1b\, Berlin\, 13051
CATEGORIES:Singen
ATTACH;FMTTYPE=image/jpeg:https://vav-lichtenberg.de/wp-content/uploads/Sing_mit-Teaser-2.jpg
ORGANIZER;CN="Verein f%C3%BCr aktive Vielfalt e.V.":MAILTO:booking@vav-lichtenberg.de
END:VEVENT
BEGIN:VEVENT
DTSTART;TZID=Europe/Berlin:20260115T150000
DTEND;TZID=Europe/Berlin:20260115T150000
DTSTAMP:20260420T195341
CREATED:20251222T133537Z
LAST-MODIFIED:20251222T133537Z
UID:13023-1768489200-1768489200@vav-lichtenberg.de
SUMMARY:Kreatives Schreiben
DESCRIPTION:An alle\, die gerne Lesen und Schreiben\, die immer mal Erinnerungen in Worte fassen wollten und Lust auf kreatives Arbeiten haben. Gereimtes\, Ungereimtes\, Absurdes\, Alltägliches und Lustiges kann und will aufgeschrieben werden. \n\nDie Teilnahme ist kostenlos.\nAnmeldung erforderlich bis 14.01.2026 unter 030 96277110 oder booking@vav-lichtenberg.de
URL:https://vav-lichtenberg.de/aktuelles/kreatives-schreiben-3/
LOCATION:Schmökerstube (Raum 1.17)\, Ribnitzer Str. 1b\, Berlin\, 13051
CATEGORIES:Kreatives Schreiben
ATTACH;FMTTYPE=image/jpeg:https://vav-lichtenberg.de/wp-content/uploads/Kreatives_Schreiben-Teaser.jpg
ORGANIZER;CN="Verein f%C3%BCr aktive Vielfalt e.V.":MAILTO:booking@vav-lichtenberg.de
END:VEVENT
BEGIN:VEVENT
DTSTART;TZID=Europe/Berlin:20260118T150000
DTEND;TZID=Europe/Berlin:20260118T150000
DTSTAMP:20260420T195341
CREATED:20251222T140757Z
LAST-MODIFIED:20251222T140825Z
UID:13027-1768748400-1768748400@vav-lichtenberg.de
SUMMARY:Spielenachmittag im Nachbarschaftscafé
DESCRIPTION:Spielenachmittag bei Kaffee und Kuchen in unserem Nachbarschaftscafé. \nKommen Sie zum Spielen in unser Café oder auch nur zum Plaudern und auf einen Sonntagskaffee.
URL:https://vav-lichtenberg.de/aktuelles/spielenachmittag-im-cafe-kloensnack-3/
LOCATION:Nachbarschaftscafé (Raum 0.05)
CATEGORIES:Spielenachmittag
ATTACH;FMTTYPE=image/jpeg:https://vav-lichtenberg.de/wp-content/uploads/Spielenachmittag_Teaser.jpg
ORGANIZER;CN="Verein f%C3%BCr aktive Vielfalt e.V.":MAILTO:booking@vav-lichtenberg.de
END:VEVENT
BEGIN:VEVENT
DTSTART;TZID=Europe/Berlin:20260119T163000
DTEND;TZID=Europe/Berlin:20260119T163000
DTSTAMP:20260420T195341
CREATED:20251222T144407Z
LAST-MODIFIED:20260119T153303Z
UID:13036-1768840200-1768840200@vav-lichtenberg.de
SUMMARY:Tischtennis-Treff
DESCRIPTION:Der Tischtennis-Treff ist offen für alle – jede*r ist herzlich willkommen! \nMan kann etwas für die Gesundheit tun\, wunderbar abschalten und den Kopf vom Alltag freibekommen. Regelmäßige Bewegung fördert das Wohlbefinden und macht einfach Spaß. \nDie Teilnahme ist kostenlos. Es ist keine Anmeldung erforderlich.
URL:https://vav-lichtenberg.de/aktuelles/tischtennis-treff-2/
LOCATION:Dünenpavillon (Raum 0.11)\, Ribnitzer Str. 1b\, Berlin\, 13051
CATEGORIES:Sport
ATTACH;FMTTYPE=image/png:https://vav-lichtenberg.de/wp-content/uploads/Tischtennis-Treff-Teaser.png
ORGANIZER;CN="Verein f%C3%BCr aktive Vielfalt e.V.":MAILTO:booking@vav-lichtenberg.de
END:VEVENT
BEGIN:VEVENT
DTSTART;TZID=Europe/Berlin:20260120T140000
DTEND;TZID=Europe/Berlin:20260120T140000
DTSTAMP:20260420T195341
CREATED:20251222T141035Z
LAST-MODIFIED:20251222T142036Z
UID:13031-1768917600-1768917600@vav-lichtenberg.de
SUMMARY:Spaziergangsgruppe Ostseeviertel
DESCRIPTION:Nutzen Sie unseren ehrenamtlich geführten Spaziergang um frische Luft zu tanken und in Bewegung zu bleiben. In kleiner Gruppe gehen Sie durch den Kiez. Nach ca. einer Stunde endet die Runde wieder bei uns. Kehren Sie dann gern gemeinsam in unserem Nachbarschaftscafé ein. \nAnmeldung erforderlich bis 1 Tag vorher unter: ☏ 030 96277110 oder ✉ booking@vav-lichtenberg.de
URL:https://vav-lichtenberg.de/aktuelles/spaziergangsgruppe-ostseeviertel-3/
LOCATION:Nachbarschaftshaus im Ostseeviertel
CATEGORIES:Spaziergangsgruppe
ATTACH;FMTTYPE=image/jpeg:https://vav-lichtenberg.de/wp-content/uploads/Spaziergangsgruppe-Teaser-2.jpg
ORGANIZER;CN="Verein f%C3%BCr aktive Vielfalt e.V.":MAILTO:booking@vav-lichtenberg.de
END:VEVENT
BEGIN:VEVENT
DTSTART;TZID=Europe/Berlin:20260120T140000
DTEND;TZID=Europe/Berlin:20260120T140000
DTSTAMP:20260420T195341
CREATED:20251222T152226Z
LAST-MODIFIED:20251222T152226Z
UID:13046-1768917600-1768917600@vav-lichtenberg.de
SUMMARY:Der Laden - mobil -
DESCRIPTION:Kleidung\, Mode\, Accessoires\nMit Kaffeeklatsch in gemütlicher Runde.\nSachspenden werden zur Öffnungszeit angenommen.
URL:https://vav-lichtenberg.de/aktuelles/der-laden-mobil-3/
LOCATION:Nachbarschaftscafé (Raum 0.05)
CATEGORIES:Flohmarkt
ATTACH;FMTTYPE=image/png:https://vav-lichtenberg.de/wp-content/uploads/Der-Laden-7tg-Teaser.png
ORGANIZER;CN="Verein f%C3%BCr aktive Vielfalt e.V.":MAILTO:booking@vav-lichtenberg.de
END:VEVENT
BEGIN:VEVENT
DTSTART;TZID=Europe/Berlin:20260121T160000
DTEND;TZID=Europe/Berlin:20260121T160000
DTSTAMP:20260420T195341
CREATED:20260119T141239Z
LAST-MODIFIED:20260119T141327Z
UID:13193-1769011200-1769011200@vav-lichtenberg.de
SUMMARY:Bewegungsübungen
DESCRIPTION:Gymnastik mit Veronika Siebke \n\nfür eine starke Körpermitte\nfür körperliche und geistige Gesundheit\nTeilnahmegebühr 3\,00 Euro\nAnmeldung unter: 0163 9660631\n\nBitte bringen Sie sich bequeme Kleidung und\, falls vorhanden\, Stoppersocken mit. \n 
URL:https://vav-lichtenberg.de/aktuelles/bewegungsuebungen/
LOCATION:Flotte Sprotte (Raum 1.01)\, Ribnitzer Str. 1b\, Berlib\, Berlin\, 13051\, Germany
CATEGORIES:Entspannung,Sport
ATTACH;FMTTYPE=image/png:https://vav-lichtenberg.de/wp-content/uploads/Bewegungsuebungen-7tg-Teaser.png
ORGANIZER;CN="Verein f%C3%BCr aktive Vielfalt e.V.":MAILTO:booking@vav-lichtenberg.de
END:VEVENT
BEGIN:VEVENT
DTSTART;TZID=Europe/Berlin:20260123T160000
DTEND;TZID=Europe/Berlin:20260123T160000
DTSTAMP:20260420T195341
CREATED:20251222T143651Z
LAST-MODIFIED:20251222T143651Z
UID:13034-1769184000-1769184000@vav-lichtenberg.de
SUMMARY:Repair-Café
DESCRIPTION:Kommen Sie mit Ihrem Problem zu uns:\n• Wir geben Hilfe zur Selbsthilfe\n• Wir helfen\, wenn Sie nicht mehr weiter wissen\n• Mit fachkundiger Hilfe wird auch Ihr altes Schätzchen wieder zum Leben erweckt \nTermine einsehbar unter:\nhttps://www.reparatur-initiativen.de/repair-cafe-berlin-lichtenberg \nGemeinsam leisten wir einen Beitrag zu mehr Nachhaltigkeit!
URL:https://vav-lichtenberg.de/aktuelles/repair-cafe-6/
LOCATION:Nachbarschaftscafé
CATEGORIES:Repair-Cafe
ATTACH;FMTTYPE=image/jpeg:https://vav-lichtenberg.de/wp-content/uploads/Repaircafe-Teaser-1.jpg
ORGANIZER;CN="Verein f%C3%BCr aktive Vielfalt e.V.":MAILTO:booking@vav-lichtenberg.de
END:VEVENT
BEGIN:VEVENT
DTSTART;TZID=Europe/Berlin:20260126T163000
DTEND;TZID=Europe/Berlin:20260126T163000
DTSTAMP:20260420T195341
CREATED:20251222T144454Z
LAST-MODIFIED:20260119T153356Z
UID:13038-1769445000-1769445000@vav-lichtenberg.de
SUMMARY:Tischtennis-Treff
DESCRIPTION:Der Tischtennis-Treff ist offen für alle – jede*r ist herzlich willkommen! \nMan kann etwas für die Gesundheit tun\, wunderbar abschalten und den Kopf vom Alltag freibekommen. Regelmäßige Bewegung fördert das Wohlbefinden und macht einfach Spaß. \nDie Teilnahme ist kostenlos. Es ist keine Anmeldung erforderlich.
URL:https://vav-lichtenberg.de/aktuelles/tischtennis-treff-3/
LOCATION:Dünenpavillon (Raum 0.11)\, Ribnitzer Str. 1b\, Berlin\, 13051
CATEGORIES:Sport
ATTACH;FMTTYPE=image/png:https://vav-lichtenberg.de/wp-content/uploads/Tischtennis-Treff-Teaser.png
ORGANIZER;CN="Verein f%C3%BCr aktive Vielfalt e.V.":MAILTO:booking@vav-lichtenberg.de
END:VEVENT
BEGIN:VEVENT
DTSTART;TZID=Europe/Berlin:20260126T160000
DTEND;TZID=Europe/Berlin:20260126T180000
DTSTAMP:20260420T195341
CREATED:20260119T131018Z
LAST-MODIFIED:20260119T131038Z
UID:13161-1769443200-1769450400@vav-lichtenberg.de
SUMMARY:Kleidertausch
DESCRIPTION:Bringen Sie ihre gut erhaltene Kleidung mit und tauschen Sie sie gegen neue Lieblingsstücke aus.\nDas Event ist eine tolle Gelegenheit\, Ihre Garderobe aufzufrischen und nachhaltig zu handeln.\nGetauscht werden Kleidung\, Schuhe und Co.\nKleidungsstücke\, die nicht getauscht werden\, sind bitte wieder mitzunehmen.\nKaffee und Knabberei auf Spendenbasis
URL:https://vav-lichtenberg.de/aktuelles/kleidertausch-2/
LOCATION:Dünenpavillon (Raum 0.11)\, Ribnitzer Str. 1b\, Berlin\, 13051
CATEGORIES:Kleidertausch
ATTACH;FMTTYPE=image/png:https://vav-lichtenberg.de/wp-content/uploads/Kleidertausch-Teaser.png
ORGANIZER;CN="Verein f%C3%BCr aktive Vielfalt e.V.":MAILTO:booking@vav-lichtenberg.de
END:VEVENT
BEGIN:VEVENT
DTSTART;TZID=Europe/Berlin:20260127T103000
DTEND;TZID=Europe/Berlin:20260127T103000
DTSTAMP:20260420T195341
CREATED:20260119T131932Z
LAST-MODIFIED:20260119T132045Z
UID:13164-1769509800-1769509800@vav-lichtenberg.de
SUMMARY:Kiezlüt´unterwegs
DESCRIPTION:Hugenottenmuseum und Französischer Dom\nWir erhalten spannende Einblicke in die Geschichte der Hugenotten in Berlin und die Bedeutung des Französischen Doms für die Stadt.\nIm Anschluss unternehmen wir einen Rundgang über den Gendarmenmarkt. \nTeilnahmebeitrag: 1\,00 Euro\, Museum: extra\nFahrscheine: BVG-Ticket AB oder Deutschland-Ticket\nAnmeldung bis 19.01.2026 erforderlich\nunter 030 96277110 oder booking@vav-lichtenberg.de
URL:https://vav-lichtenberg.de/aktuelles/kiezluetunterwegs-3/
LOCATION:Gendarmenmarkt\, Germany
CATEGORIES:Kiezlüt unterwegs
ATTACH;FMTTYPE=image/jpeg:https://vav-lichtenberg.de/wp-content/uploads/Kiezluet-Teaser.jpg
ORGANIZER;CN="Verein f%C3%BCr aktive Vielfalt e.V.":MAILTO:booking@vav-lichtenberg.de
END:VEVENT
BEGIN:VEVENT
DTSTART;TZID=Europe/Berlin:20260127T140000
DTEND;TZID=Europe/Berlin:20260127T140000
DTSTAMP:20260420T195341
CREATED:20251222T152257Z
LAST-MODIFIED:20251222T152257Z
UID:13048-1769522400-1769522400@vav-lichtenberg.de
SUMMARY:Der Laden - mobil -
DESCRIPTION:Kleidung\, Mode\, Accessoires\nMit Kaffeeklatsch in gemütlicher Runde.\nSachspenden werden zur Öffnungszeit angenommen.
URL:https://vav-lichtenberg.de/aktuelles/der-laden-mobil-4/
LOCATION:Nachbarschaftscafé (Raum 0.05)
CATEGORIES:Flohmarkt
ATTACH;FMTTYPE=image/png:https://vav-lichtenberg.de/wp-content/uploads/Der-Laden-7tg-Teaser.png
ORGANIZER;CN="Verein f%C3%BCr aktive Vielfalt e.V.":MAILTO:booking@vav-lichtenberg.de
END:VEVENT
BEGIN:VEVENT
DTSTART;TZID=Europe/Berlin:20260127T150000
DTEND;TZID=Europe/Berlin:20260127T150000
DTSTAMP:20260420T195341
CREATED:20260119T132508Z
LAST-MODIFIED:20260119T132508Z
UID:13168-1769526000-1769526000@vav-lichtenberg.de
SUMMARY:Musik-Café
DESCRIPTION:Berühmte Liebesduette\nWir erleben Opern mit bekannten Sopranen und Tenören u.a. mit Natalie Dessay & Francesco Meli\, Victoria de los Ángeles & Jussi Björling\, Maria Callas & Nicolai Gedda\, Erika Köth & Fritz Wunderlich. \nKaffee und Kuchen auf Spendenbasis.\nAnmeldung erforderlich bis 26.01.2026 unter 030 96277110 oder booking@vav-lichtenberg.de
URL:https://vav-lichtenberg.de/aktuelles/musik-cafe-2/
LOCATION:Dünenpavillon (Raum 0.11)\, Ribnitzer Str. 1b\, Berlin\, 13051
CATEGORIES:Musik-Café
ATTACH;FMTTYPE=image/jpeg:https://vav-lichtenberg.de/wp-content/uploads/MusikCafe-Teaser.jpg
ORGANIZER;CN="Verein f%C3%BCr aktive Vielfalt e.V.":MAILTO:booking@vav-lichtenberg.de
END:VEVENT
BEGIN:VEVENT
DTSTART;TZID=Europe/Berlin:20260128T160000
DTEND;TZID=Europe/Berlin:20260128T160000
DTSTAMP:20260420T195341
CREATED:20260119T134107Z
LAST-MODIFIED:20260119T134107Z
UID:13170-1769616000-1769616000@vav-lichtenberg.de
SUMMARY:Sing mit – Singen für alle
DESCRIPTION:Singen in gemütlicher Lagerfeueratmosphäre mit Udo Glaser. \nEs sind keine musikalischen Voraussetzungen notwendig. Gesungen werden alle Genre von Volksliedern über Oldies bis zu Popsongs. \n 
URL:https://vav-lichtenberg.de/aktuelles/sing-mit-singen-fuer-alle-8/
LOCATION:Schmökerstube (Raum 1.17)\, Ribnitzer Str. 1b\, Berlin\, 13051
CATEGORIES:Singen
ATTACH;FMTTYPE=image/jpeg:https://vav-lichtenberg.de/wp-content/uploads/Sing_mit-Teaser-2.jpg
ORGANIZER;CN="Verein f%C3%BCr aktive Vielfalt e.V.":MAILTO:booking@vav-lichtenberg.de
END:VEVENT
BEGIN:VEVENT
DTSTART;TZID=Europe/Berlin:20260128T160000
DTEND;TZID=Europe/Berlin:20260128T160000
DTSTAMP:20260420T195341
CREATED:20260119T141508Z
LAST-MODIFIED:20260119T141552Z
UID:13197-1769616000-1769616000@vav-lichtenberg.de
SUMMARY:Bewegungsübungen
DESCRIPTION:Gymnastik mit Veronika Siebke \n\nfür eine starke Körpermitte\nfür körperliche und geistige Gesundheit\nTeilnahmegebühr 3\,00 Euro\nAnmeldung unter: 0163 9660631\n\nBitte bringen Sie sich bequeme Kleidung und\, falls vorhanden\, Stoppersocken mit. \n 
URL:https://vav-lichtenberg.de/aktuelles/bewegungsuebungen-2/
LOCATION:Flotte Sprotte (Raum 1.01)\, Ribnitzer Str. 1b\, Berlib\, Berlin\, 13051\, Germany
CATEGORIES:Entspannung,Sport
ATTACH;FMTTYPE=image/png:https://vav-lichtenberg.de/wp-content/uploads/Bewegungsuebungen-7tg-Teaser.png
ORGANIZER;CN="Verein f%C3%BCr aktive Vielfalt e.V.":MAILTO:booking@vav-lichtenberg.de
END:VEVENT
BEGIN:VEVENT
DTSTART;TZID=Europe/Berlin:20260131T120000
DTEND;TZID=Europe/Berlin:20260131T120000
DTSTAMP:20260420T195341
CREATED:20260128T160252Z
LAST-MODIFIED:20260128T160322Z
UID:13238-1769860800-1769860800@vav-lichtenberg.de
SUMMARY:Suppenaktion des DRK Nordost
DESCRIPTION:Der DRK Kreisverband Berlin-Nordost e.V. verteilt wieder die liebgewonnenen Lebensmittelpakete und die begehrte frische Suppe aus der Feldküche.
URL:https://vav-lichtenberg.de/aktuelles/suppenaktion-des-drk-nordost-3/
LOCATION:DRK-Kreisverband Berlin-Nordost e.V. Helene-Weigel-Platz 6\, Helene-Weigel-Platz 6\, Berlin
CATEGORIES:Lebensmittel-Aktion
ATTACH;FMTTYPE=image/jpeg:https://vav-lichtenberg.de/wp-content/uploads/SuppenAktionen-Teaser.jpg
END:VEVENT
END:VCALENDAR