BEGIN:VCALENDAR
VERSION:2.0
PRODID:-//Verein für aktive Vielfalt e.V. - ECPv6.15.20//NONSGML v1.0//EN
CALSCALE:GREGORIAN
METHOD:PUBLISH
X-ORIGINAL-URL:https://vav-lichtenberg.de
X-WR-CALDESC:Veranstaltungen für Verein für aktive Vielfalt e.V.
REFRESH-INTERVAL;VALUE=DURATION:PT1H
X-Robots-Tag:noindex
X-PUBLISHED-TTL:PT1H
BEGIN:VTIMEZONE
TZID:Europe/Berlin
BEGIN:DAYLIGHT
TZOFFSETFROM:+0100
TZOFFSETTO:+0200
TZNAME:CEST
DTSTART:20240331T010000
END:DAYLIGHT
BEGIN:STANDARD
TZOFFSETFROM:+0200
TZOFFSETTO:+0100
TZNAME:CET
DTSTART:20241027T010000
END:STANDARD
BEGIN:DAYLIGHT
TZOFFSETFROM:+0100
TZOFFSETTO:+0200
TZNAME:CEST
DTSTART:20250330T010000
END:DAYLIGHT
BEGIN:STANDARD
TZOFFSETFROM:+0200
TZOFFSETTO:+0100
TZNAME:CET
DTSTART:20251026T010000
END:STANDARD
BEGIN:DAYLIGHT
TZOFFSETFROM:+0100
TZOFFSETTO:+0200
TZNAME:CEST
DTSTART:20260329T010000
END:DAYLIGHT
BEGIN:STANDARD
TZOFFSETFROM:+0200
TZOFFSETTO:+0100
TZNAME:CET
DTSTART:20261025T010000
END:STANDARD
END:VTIMEZONE
BEGIN:VEVENT
DTSTART;TZID=Europe/Berlin:20250912T140000
DTEND;TZID=Europe/Berlin:20250912T140000
DTSTAMP:20260419T145403
CREATED:20250813T095149Z
LAST-MODIFIED:20250813T095159Z
UID:12027-1757685600-1757685600@vav-lichtenberg.de
SUMMARY:Klangschalen und Aromatherapie
DESCRIPTION:Genießen Sie die wohltuende Wirkung der Klangfrequenzen auf Körper und Geist. Ayurvedische Öle entführen Sie aus dem Alltag. Patricia Sanders lebt von Geburt an mit einer Seheinschränkung und möchte mit Ihnen in die Vielfalt der Sinnesvertiefungen eintauchen. \nAnmeldung erforderlich unter 030 96277110 oder booking@vav-lichtenberg.de
URL:https://vav-lichtenberg.de/aktuelles/klangschalen-und-aromatherapie-2/
LOCATION:Flotte Sprotte (Raum 1.01)\, Ribnitzer Str. 1b\, Berlib\, Berlin\, 13051\, Germany
CATEGORIES:Entspannung
ATTACH;FMTTYPE=image/jpeg:https://vav-lichtenberg.de/wp-content/uploads/Klangschalen_Teaser.jpg
ORGANIZER;CN="Verein f%C3%BCr aktive Vielfalt e.V.":MAILTO:booking@vav-lichtenberg.de
END:VEVENT
END:VCALENDAR