BEGIN:VCALENDAR
VERSION:2.0
PRODID:-//Verein für aktive Vielfalt e.V. - ECPv6.15.20//NONSGML v1.0//EN
CALSCALE:GREGORIAN
METHOD:PUBLISH
X-ORIGINAL-URL:https://vav-lichtenberg.de
X-WR-CALDESC:Veranstaltungen für Verein für aktive Vielfalt e.V.
REFRESH-INTERVAL;VALUE=DURATION:PT1H
X-Robots-Tag:noindex
X-PUBLISHED-TTL:PT1H
BEGIN:VTIMEZONE
TZID:Europe/Berlin
BEGIN:DAYLIGHT
TZOFFSETFROM:+0100
TZOFFSETTO:+0200
TZNAME:CEST
DTSTART:20240331T010000
END:DAYLIGHT
BEGIN:STANDARD
TZOFFSETFROM:+0200
TZOFFSETTO:+0100
TZNAME:CET
DTSTART:20241027T010000
END:STANDARD
BEGIN:DAYLIGHT
TZOFFSETFROM:+0100
TZOFFSETTO:+0200
TZNAME:CEST
DTSTART:20250330T010000
END:DAYLIGHT
BEGIN:STANDARD
TZOFFSETFROM:+0200
TZOFFSETTO:+0100
TZNAME:CET
DTSTART:20251026T010000
END:STANDARD
BEGIN:DAYLIGHT
TZOFFSETFROM:+0100
TZOFFSETTO:+0200
TZNAME:CEST
DTSTART:20260329T010000
END:DAYLIGHT
BEGIN:STANDARD
TZOFFSETFROM:+0200
TZOFFSETTO:+0100
TZNAME:CET
DTSTART:20261025T010000
END:STANDARD
END:VTIMEZONE
BEGIN:VEVENT
DTSTART;TZID=Europe/Berlin:20250917T150000
DTEND;TZID=Europe/Berlin:20250917T150000
DTSTAMP:20260421T071939
CREATED:20250821T105434Z
LAST-MODIFIED:20250821T115253Z
UID:12071-1758121200-1758121200@vav-lichtenberg.de
SUMMARY:Interkulturelles Fest
DESCRIPTION:Die unterschiedlichsten Kulturen feiern zusammen ein buntes vielfältiges Fest. \nOb Musik\, Essen\, Tanz\, Mitmachaktionen usw. – bringt eure Ideen ein und gestaltet das Event gemeinsam mit.
URL:https://vav-lichtenberg.de/aktuelles/interkulturelles-fest/
LOCATION:Garten im Nachbarschaftshaus\, Ribnitzer Str. 1b\, Berlin\, 16356
CATEGORIES:Gartenfest
ATTACH;FMTTYPE=image/jpeg:https://vav-lichtenberg.de/wp-content/uploads/Interkulturelles_Fest-250917-Teaser.jpg
END:VEVENT
BEGIN:VEVENT
DTSTART;TZID=Europe/Berlin:20250924T110000
DTEND;TZID=Europe/Berlin:20250924T130000
DTSTAMP:20260421T071939
CREATED:20250916T131347Z
LAST-MODIFIED:20250916T131453Z
UID:12191-1758711600-1758718800@vav-lichtenberg.de
SUMMARY:Frauen*treff mit Tanz und Musik
DESCRIPTION:Im Rahmen der Interkulturellen Woche laden wir euch zum festlichen Frauen*treff ein. Wir tauschen in einem geschützten Raum unsere Lieblingslieder und Tänze aus und haben viel Spaß.\nBring gerne kleine Snacks zum Teilen mit.\nDer Ort ist barrierefrei.
URL:https://vav-lichtenberg.de/aktuelles/frauentreff-mit-tanz-und-musik/
LOCATION:Dünenpavillon (Raum 0.11)\, Ribnitzer Str. 1b\, Berlin\, 13051
ATTACH;FMTTYPE=image/png:https://vav-lichtenberg.de/wp-content/uploads/Interkulturelle-Woche-Angebote-250903-Teaser.png
END:VEVENT
END:VCALENDAR